BEGIN:VCALENDAR
VERSION:2.0
PRODID:-//agippsa - ECPv6.15.20//NONSGML v1.0//EN
CALSCALE:GREGORIAN
METHOD:PUBLISH
X-WR-CALNAME:agippsa
X-ORIGINAL-URL:https://agippsa.it
X-WR-CALDESC:Eventi per agippsa
REFRESH-INTERVAL;VALUE=DURATION:PT1H
X-Robots-Tag:noindex
X-PUBLISHED-TTL:PT1H
BEGIN:VTIMEZONE
TZID:Europe/Rome
BEGIN:DAYLIGHT
TZOFFSETFROM:+0100
TZOFFSETTO:+0200
TZNAME:CEST
DTSTART:20250330T010000
END:DAYLIGHT
BEGIN:STANDARD
TZOFFSETFROM:+0200
TZOFFSETTO:+0100
TZNAME:CET
DTSTART:20251026T010000
END:STANDARD
BEGIN:DAYLIGHT
TZOFFSETFROM:+0100
TZOFFSETTO:+0200
TZNAME:CEST
DTSTART:20260329T010000
END:DAYLIGHT
BEGIN:STANDARD
TZOFFSETFROM:+0200
TZOFFSETTO:+0100
TZNAME:CET
DTSTART:20261025T010000
END:STANDARD
BEGIN:DAYLIGHT
TZOFFSETFROM:+0100
TZOFFSETTO:+0200
TZNAME:CEST
DTSTART:20270328T010000
END:DAYLIGHT
BEGIN:STANDARD
TZOFFSETFROM:+0200
TZOFFSETTO:+0100
TZNAME:CET
DTSTART:20271031T010000
END:STANDARD
END:VTIMEZONE
BEGIN:VEVENT
DTSTART;TZID=Europe/Rome:20261114T090000
DTEND;TZID=Europe/Rome:20261114T130000
DTSTAMP:20260424T135524
CREATED:20260119T160942Z
LAST-MODIFIED:20260119T162856Z
UID:19304-1794646800-1794661200@agippsa.it
SUMMARY:Le organizzazioni di personalità in introduzione alla diagnosi e al trattamento nel modello Transference Focused Psychotherapy (TFP) di Otto Kernberg
DESCRIPTION:Seminari organizzati da Area G Scuola di Psicoterapia (in presenza e on line): \n7 febbraio 2026 \n“La riparazione: dentro e fuori la stanza di analisi” \nRelatrice: Irene Ruggiero \nSede FAST\, via Rodolfo Morandi 2 – Milano  h 9-13 \n16 maggio 2026 \n“La clinica del giovane adulto oggi: strumenti psicoterapeutici e nuove prospettive” \nRelatori: Chiara Navarra\, Cristiano Salvemini \nSede Casa della Cultura – Via Borgogna 3 – Milano  h 9-13 \n26 settembre 2026 \n“Quali domande può suscitare il lavoro con adolescenti e giovani adulti con disforia di genere?”\nRelatrice: Angela Gesuè \nSede da definirsi   h 9-13 \n14 novembre 2026 \n“Le organizzazioni di personalità in introduzione alla diagnosi e al trattamento nel modello Transference Focused Psychotherapy (TFP) di Otto Kernberg”\nRelatori: Fabio Madeddu\, Alvise Orlandini\, Irene Sarno \nSede da definirsì   h 9-13 \nTutti i seminari potranno essere seguiti anche on line. \nCosti: 60€ per il singolo seminario\, 100€ per due seminari\, 180€ per tutti e quattro i seminari.\nPer iscriversi: info.amministrazione@areag.net
URL:https://agippsa.it/evento/personalita-kernberg/
CATEGORIES:Convegni e seminari
ORGANIZER;CN="Area G Milano":MAILTO:info@areag.net
END:VEVENT
BEGIN:VEVENT
DTSTART;TZID=Europe/Rome:20261211T200000
DTEND;TZID=Europe/Rome:20261211T213000
DTSTAMP:20260424T135524
CREATED:20260112T091758Z
LAST-MODIFIED:20260302T094904Z
UID:19282-1797019200-1797024600@agippsa.it
SUMMARY:Officina psicodramma e psicoanalisi
DESCRIPTION:Apeiron Associazione propone un ciclo di seminari mensili gratuiti di approfondimento sulla clinica contemporanea in psicoanalisi e psicodramma analitico freudiano. Le presentazioni di frammenti o di esperienze cliniche saranno impulso al confronto su elementi di setting\, nodi teorici o interrogazioni sulla prassi\, al quale ogni partecipante potrà contribuire secondo la propria esperienza e postura nella clinica.\na cura:\ndott.ssa Carmen Tagliaferri Psicoanalista\, psicodrammatista\, didatta e membro del Comitato scientifico SIPsA\, Direttore Rivista Coirag Gruppi\, membro Commissione scientifica Coirag e dott. Giuseppe Preziosi psicoanalista\, psicodrammatista\, docente Coirag sede Milano\,\n\n9 gennaio\, 13 febbraio\, 13 marzo\, 17 aprile\, 8 maggio\, 6 giugno\, 11 settembre\, 9 ottobre\, 13 novembre\, 11 dicembre 2026 dalle ore 20.00 alle ore 21.30 \nCORSO RINASCIMENTO 41 int.2\, Roma E ONLINE \nInfo e iscrizione apeiron.psicodramma@gmail.com \n[Scarica qui la locandina]
URL:https://agippsa.it/evento/officina-psicodramma-e-psicoanalisi-9/
LOCATION:Associazione Apeiron\, Via Monterone n.2 int. 7\, Roma\, 00186
CATEGORIES:Convegni e seminari
ORGANIZER;CN="Associazione Apeiron":MAILTO:apeiron.psicodramma@gmail.com
END:VEVENT
END:VCALENDAR