BEGIN:VCALENDAR
VERSION:2.0
PRODID:-//agippsa - ECPv6.15.20//NONSGML v1.0//EN
CALSCALE:GREGORIAN
METHOD:PUBLISH
X-ORIGINAL-URL:https://agippsa.it
X-WR-CALDESC:Eventi per agippsa
REFRESH-INTERVAL;VALUE=DURATION:PT1H
X-Robots-Tag:noindex
X-PUBLISHED-TTL:PT1H
BEGIN:VTIMEZONE
TZID:Europe/Rome
BEGIN:DAYLIGHT
TZOFFSETFROM:+0100
TZOFFSETTO:+0200
TZNAME:CEST
DTSTART:20250330T010000
END:DAYLIGHT
BEGIN:STANDARD
TZOFFSETFROM:+0200
TZOFFSETTO:+0100
TZNAME:CET
DTSTART:20251026T010000
END:STANDARD
BEGIN:DAYLIGHT
TZOFFSETFROM:+0100
TZOFFSETTO:+0200
TZNAME:CEST
DTSTART:20260329T010000
END:DAYLIGHT
BEGIN:STANDARD
TZOFFSETFROM:+0200
TZOFFSETTO:+0100
TZNAME:CET
DTSTART:20261025T010000
END:STANDARD
BEGIN:DAYLIGHT
TZOFFSETFROM:+0100
TZOFFSETTO:+0200
TZNAME:CEST
DTSTART:20270328T010000
END:DAYLIGHT
BEGIN:STANDARD
TZOFFSETFROM:+0200
TZOFFSETTO:+0100
TZNAME:CET
DTSTART:20271031T010000
END:STANDARD
END:VTIMEZONE
BEGIN:VEVENT
DTSTART;TZID=Europe/Rome:20260428T210000
DTEND;TZID=Europe/Rome:20260428T230000
DTSTAMP:20260423T084310
CREATED:20260330T075107Z
LAST-MODIFIED:20260330T075107Z
UID:19418-1777410000-1777417200@agippsa.it
SUMMARY:Ciclo ECM FAD - Il setting con la coppia genitoriale. La visione binoculare dello psicoterapeuta dell'età evolutiva tra coppia genitoriale e bambino
DESCRIPTION:L’evento si articola in due serate su Piattaforma ZOOM:\n– martedì 14 aprile\, dal titolo Quale spazio per i genitori nella psicoterapia psicoanalitica dell’infanzia e dell’adolescenza? con un intervento di Daniela Lucarelli\n– martedì 28 aprile\, dal titolo Difficoltà a sopravvivere nelle funzioni genitoriale. Solitudine dei figli\, a cura di Mercedes Lugones e Susanna Piermattei.\nLe serate fanno parte di un ciclo tematico che si concluderà con la Mattinata scientifica del 9 maggio dal titolo Perché è così arduo il lavoro con i genitori?\, V° Conferenza magistrale in memoria di Andreas Giannakoulas\, con le dottoresse Maria Luisa Algini\, Susanna Guida\, Mercedes Lugones\, Martina Palagiano\, Virginia Martino\, Marta Giannetti e il dottor Francesco Vicanolo.\n\n\n\n\n\nLINK AL MODULO DI ISCRIZIONE per le serate FAD (14 e 28 aprile 2026):\nhttps://docs.google.com/forms/d/e/1FAIpQLSfnez7jU2vE1Ev0H-njdTfyh0mQ7mv6nhib3BcLr0-AZ6UWbA/viewform?usp=header\n \nLINK AL MODULO DI ISCRIZIONE per la Mattinata Scientifica (9 maggio 2026):\nhttps://docs.google.com/forms/d/e/1FAIpQLSdfd4H913vVndfh5Rv3LphGqPw82kwz_8ZYLFyV9HvBoPfoDQ/viewform?usp=header
URL:https://agippsa.it/evento/ciclo-ecm-fad-il-setting-con-la-coppia-genitoriale-la-visione-binoculare-dello-psicoterapeuta-delleta-evolutiva-tra-coppia-genitoriale-e-bambino-2/
LOCATION:Online
ORGANIZER;CN="ISTITUTO WINNICOTT-SIPSIA":MAILTO:istwinnicott.amministrazione@gmail.com
END:VEVENT
END:VCALENDAR