BEGIN:VCALENDAR
VERSION:2.0
PRODID:-//agippsa - ECPv6.15.20//NONSGML v1.0//EN
CALSCALE:GREGORIAN
METHOD:PUBLISH
X-WR-CALNAME:agippsa
X-ORIGINAL-URL:https://agippsa.it
X-WR-CALDESC:Eventi per agippsa
REFRESH-INTERVAL;VALUE=DURATION:PT1H
X-Robots-Tag:noindex
X-PUBLISHED-TTL:PT1H
BEGIN:VTIMEZONE
TZID:Europe/Rome
BEGIN:DAYLIGHT
TZOFFSETFROM:+0100
TZOFFSETTO:+0200
TZNAME:CEST
DTSTART:20220327T010000
END:DAYLIGHT
BEGIN:STANDARD
TZOFFSETFROM:+0200
TZOFFSETTO:+0100
TZNAME:CET
DTSTART:20221030T010000
END:STANDARD
BEGIN:DAYLIGHT
TZOFFSETFROM:+0100
TZOFFSETTO:+0200
TZNAME:CEST
DTSTART:20230326T010000
END:DAYLIGHT
BEGIN:STANDARD
TZOFFSETFROM:+0200
TZOFFSETTO:+0100
TZNAME:CET
DTSTART:20231029T010000
END:STANDARD
BEGIN:DAYLIGHT
TZOFFSETFROM:+0100
TZOFFSETTO:+0200
TZNAME:CEST
DTSTART:20240331T010000
END:DAYLIGHT
BEGIN:STANDARD
TZOFFSETFROM:+0200
TZOFFSETTO:+0100
TZNAME:CET
DTSTART:20241027T010000
END:STANDARD
END:VTIMEZONE
BEGIN:VEVENT
DTSTART;TZID=Europe/Rome:20230304T100000
DTEND;TZID=Europe/Rome:20230304T140000
DTSTAMP:20260422T041301
CREATED:20230222T125553Z
LAST-MODIFIED:20230222T125553Z
UID:17493-1677924000-1677938400@agippsa.it
SUMMARY:CICLO DI SEMINARI: il futuro della memoria
DESCRIPTION:Scarica la Locandina in pdf
URL:https://agippsa.it/evento/ciclo-di-seminari-il-futuro-della-memoria/
LOCATION:Online
CATEGORIES:Convegni e seminari,Eventi
ATTACH;FMTTYPE=image/jpeg:https://agippsa.it/wp-content/uploads/2023/02/Locandina-ciclo-2023_page-0001-e1677073972815.jpg
ORGANIZER;CN="AFPP":MAILTO:afpp.segreteria@gmail.com
END:VEVENT
BEGIN:VEVENT
DTSTART;TZID=Europe/Rome:20230304T100000
DTEND;TZID=Europe/Rome:20230304T141500
DTSTAMP:20260422T041301
CREATED:20230120T124228Z
LAST-MODIFIED:20230120T124540Z
UID:17420-1677924000-1677939300@agippsa.it
SUMMARY:CANTIERE FREUD 2023. L'io\, il sè e l'angoscia
DESCRIPTION:locandina PDF \nScheda_Iscrizione
URL:https://agippsa.it/evento/cantiere-freud-2023-lio-il-se-e-langoscia/
LOCATION:Piattaforma Zoom
CATEGORIES:Convegni e seminari,Eventi
ATTACH;FMTTYPE=image/jpeg:https://agippsa.it/wp-content/uploads/2023/01/CANTIERE-FREUD-COMPLETA-1_page-0001-e1674221195764.jpg
END:VEVENT
BEGIN:VEVENT
DTSTART;TZID=Europe/Rome:20230318T100000
DTEND;TZID=Europe/Rome:20230318T141500
DTSTAMP:20260422T041301
CREATED:20230120T124505Z
LAST-MODIFIED:20230224T093803Z
UID:17422-1679133600-1679148900@agippsa.it
SUMMARY:CANTIERE FREUD 2023. L'io\, il sè e l'angoscia
DESCRIPTION:locandina PDF \nScheda_Iscrizione
URL:https://agippsa.it/evento/cantiere-freud-2023-lio-il-se-e-langoscia-2/
LOCATION:Piattaforma Zoom
CATEGORIES:Convegni e seminari,Eventi
ATTACH;FMTTYPE=image/jpeg:https://agippsa.it/wp-content/uploads/2023/01/CANTIERE-FREUD-COMPLETA-1_page-0001-e1674221195764.jpg
END:VEVENT
END:VCALENDAR