BEGIN:VCALENDAR
VERSION:2.0
PRODID:-//agippsa - ECPv6.15.20//NONSGML v1.0//EN
CALSCALE:GREGORIAN
METHOD:PUBLISH
X-WR-CALNAME:agippsa
X-ORIGINAL-URL:https://agippsa.it
X-WR-CALDESC:Eventi per agippsa
REFRESH-INTERVAL;VALUE=DURATION:PT1H
X-Robots-Tag:noindex
X-PUBLISHED-TTL:PT1H
BEGIN:VTIMEZONE
TZID:Europe/Rome
BEGIN:DAYLIGHT
TZOFFSETFROM:+0100
TZOFFSETTO:+0200
TZNAME:CEST
DTSTART:20220327T010000
END:DAYLIGHT
BEGIN:STANDARD
TZOFFSETFROM:+0200
TZOFFSETTO:+0100
TZNAME:CET
DTSTART:20221030T010000
END:STANDARD
BEGIN:DAYLIGHT
TZOFFSETFROM:+0100
TZOFFSETTO:+0200
TZNAME:CEST
DTSTART:20230326T010000
END:DAYLIGHT
BEGIN:STANDARD
TZOFFSETFROM:+0200
TZOFFSETTO:+0100
TZNAME:CET
DTSTART:20231029T010000
END:STANDARD
BEGIN:DAYLIGHT
TZOFFSETFROM:+0100
TZOFFSETTO:+0200
TZNAME:CEST
DTSTART:20240331T010000
END:DAYLIGHT
BEGIN:STANDARD
TZOFFSETFROM:+0200
TZOFFSETTO:+0100
TZNAME:CET
DTSTART:20241027T010000
END:STANDARD
END:VTIMEZONE
BEGIN:VEVENT
DTSTART;TZID=Europe/Rome:20230920T230000
DTEND;TZID=Europe/Rome:20230921T013000
DTSTAMP:20260421T104648
CREATED:20230224T154254Z
LAST-MODIFIED:20230224T154254Z
UID:17516-1695250800-1695259800@agippsa.it
SUMMARY:CICLO DI SEMINARI: Il futuro della memoria
DESCRIPTION:Scarica la Locandina in pdf
URL:https://agippsa.it/evento/ciclo-di-seminari-il-futuro-della-memoria-5/
LOCATION:Online
CATEGORIES:Convegni e seminari,Eventi
ATTACH;FMTTYPE=image/jpeg:https://agippsa.it/wp-content/uploads/2023/02/Locandina-ciclo-2023_page-0001-e1677073972815.jpg
ORGANIZER;CN="AFPP":MAILTO:afpp.segreteria@gmail.com
END:VEVENT
BEGIN:VEVENT
DTSTART;TZID=Europe/Rome:20230921T230000
DTEND;TZID=Europe/Rome:20230921T230000
DTSTAMP:20260421T104648
CREATED:20230417T140445Z
LAST-MODIFIED:20230907T104639Z
UID:17666-1695337200-1695337200@agippsa.it
SUMMARY:FANTASIE DEI GENITORI E PSICOPATOLOGIA DEI FIGLI
DESCRIPTION:SOCIETÀ ITALIANA DI PSICOTERAPIA PSICOANALITICA DELL’INFANZIA\, DELL’ADOLESCENZA E DELLA COPPIA \n  \nGentili colleghi\, \nIn allegato troverete la locandina del terzo evento del Ciclo di Serate Scientifiche accreditato ECM (15 crediti) dal titolo: \n“Fantasie dei genitori e psicopatologia dei figli” nel nuovo millennio\, ed anche la locandina con l’elenco di tutte le serate in calendario. \nLe serate costituiscono un unico evento e vedranno la presentazione di quattro interessanti lavori originali che approfondiscono il tema della psicoterapia del bambino e dell’adolescente con una particolare attenzione alla coppia genitoriale\, ai vissuti e alle fantasie che accompagnano la nascita e la crescita dei figli e alla ricaduta che proprio queste fantasie possono avere sul loro sviluppo.  A conclusione del ciclo si terrà un quinto incontro in cui sarà commentato e discusso il lavoro “Equilibrio e rottura dell’equilibrio nella relazione tra fantasie inconsce dei genitori e sviluppo normale e patologico del bambino”. \n  \nIl 21 settembre\, alle ore 21\,00\, Sara Cerracchio presenterà il lavoro dal titolo: “La cesta. Disfunzioni della parola e curare con la parola “.  Sarà presente e  dialogherà con lei Maria Luisa Algini. \nVi ricordo che la possibilità di ottenere i crediti ECM è subordinata alla partecipazione a tutte e 5 le serate in calendario. \nSiamo certi di una vostra partecipazione e di una discussione collettiva su questa interessante tematica. \nUn caro saluto. \nIl Segretario Scientifico \nVeronika Garms \n  \n \n\nscarica la locandina in PDF
URL:https://agippsa.it/evento/fantasie-dei-genitori-e-psicopatologia-dei-figli-3/
LOCATION:Piattaforma Zoom
CATEGORIES:Convegni e seminari,Eventi
ATTACH;FMTTYPE=image/jpeg:https://agippsa.it/wp-content/uploads/2023/04/III-incontro-serate-scientifiche-21-settembre_page-0001.jpg
END:VEVENT
BEGIN:VEVENT
DTSTART;TZID=Europe/Rome:20230923T110000
DTEND;TZID=Europe/Rome:20230923T153000
DTSTAMP:20260421T104648
CREATED:20230725T093813Z
LAST-MODIFIED:20230725T094246Z
UID:17768-1695466800-1695483000@agippsa.it
SUMMARY:OPEN DAY ARPAd e Presentazione AeP Adolescenza e Psicoanalisi 1/2023 Mito
DESCRIPTION:  \nL’ ARPAd sabato 23 Settembre 2023 ha organizzato presso la Cooperativa Rifornimento in volo\, in Via Lucca 19/21 a Roma: \nore 9.00 – OPEN DAY  della Scuola di Specializzazione in Psicoterapia Psicoanalitica dell’Adolescente e del Giovane Adulto – Coordina: Paola Carbone \nore 10.15 – PRESENTAZIONE ‘MITO’ AeP Adolescenza e Psicoanalisi 1-2023 – Coordina: Diana Burratti \n ore 10.30 – 11.30 – Sista Bramini narra: Atteone. La verità disvelata \n ore 11.45 – 13.15 – Cinzia Lucantoni e Anna Maria Speranza presentano il volume e discutono con il pubblico \nINGRESSO LIBERO CON ISCRIZIONE \nPer iscriversi inviare una mail a: arpad@associazionearpad.it ed attendere risposta. \nVerrà rilasciato un attestato di partecipazione\, se richiesto \nScarica la Locandina in PDF
URL:https://agippsa.it/evento/open-day-arpad-e-presentazione-aep-adolescenza-e-psicoanalisi-1-2023-mito/
LOCATION:Cooperativa Rifornimento in Volo\, Via Lucca 19/21\, Roma\, Italia
CATEGORIES:Eventi
ATTACH;FMTTYPE=image/jpeg:https://agippsa.it/wp-content/uploads/2023/07/LOCANDINA_MITO_23-Settembre-2023_page-0001.jpg
ORGANIZER;CN="ARPAd":MAILTO:arpad@associazionearpad.it
END:VEVENT
BEGIN:VEVENT
DTSTART;TZID=Europe/Rome:20230930T110000
DTEND;TZID=Europe/Rome:20230930T153000
DTSTAMP:20260421T104648
CREATED:20230322T101335Z
LAST-MODIFIED:20230322T101335Z
UID:17616-1696071600-1696087800@agippsa.it
SUMMARY:CICLO DI SEMINARI. Sguardo sul femminile contemporaneo.
DESCRIPTION:Terzo Seminario: L’ombra del femminile materno sulle figlie \nScarica il programma in versione PDF \nCompila la SCHEDA iscrizione
URL:https://agippsa.it/evento/ciclo-di-seminari-sguardo-sul-femminile-contemporaneo-3/
LOCATION:AIPPI- Roma\, Via Alessandria 130\, Roma\, 00198\, Italia
CATEGORIES:Convegni e seminari,Eventi
ATTACH;FMTTYPE=image/jpeg:https://agippsa.it/wp-content/uploads/2023/03/Locandina-Sguardi-femminile-contemporaneo.jpg
ORGANIZER;CN="AIPPI":MAILTO:info@aippiweb.it
END:VEVENT
BEGIN:VEVENT
DTSTART;TZID=Europe/Rome:20230930T110000
DTEND;TZID=Europe/Rome:20230930T190000
DTSTAMP:20260421T104648
CREATED:20230517T100803Z
LAST-MODIFIED:20230517T100803Z
UID:17705-1696071600-1696100400@agippsa.it
SUMMARY:ESPERIENZA DEL CORPO E MEMORIA DEL CORPO. Uno sguardo attraverso le arti
DESCRIPTION:
URL:https://agippsa.it/evento/esperienza-del-corpo-e-memoria-del-corpo-uno-sguardo-attraverso-le-arti-2/
LOCATION:RM
CATEGORIES:Convegni e seminari,Eventi
ATTACH;FMTTYPE=image/jpeg:https://agippsa.it/wp-content/uploads/2023/05/EVENTI-SULLARTE_page-0001.jpg
END:VEVENT
END:VCALENDAR